BEGIN:VCALENDAR
VERSION:2.0
PRODID:-//Kapak Magazin - ECPv6.15.17.1//NONSGML v1.0//EN
CALSCALE:GREGORIAN
METHOD:PUBLISH
X-ORIGINAL-URL:https://kapakmagazin.com
X-WR-CALDESC:Kapak Magazin için etkinlikler
REFRESH-INTERVAL;VALUE=DURATION:PT1H
X-Robots-Tag:noindex
X-PUBLISHED-TTL:PT1H
BEGIN:VTIMEZONE
TZID:Europe/Istanbul
BEGIN:STANDARD
TZOFFSETFROM:+0300
TZOFFSETTO:+0300
TZNAME:+03
DTSTART:20250101T000000
END:STANDARD
END:VTIMEZONE
BEGIN:VEVENT
DTSTART;VALUE=DATE:20260207
DTEND;VALUE=DATE:20260208
DTSTAMP:20260423T035400
CREATED:20251204T175412Z
LAST-MODIFIED:20251208T060241Z
UID:21114-1770422400-1770508799@kapakmagazin.com
SUMMARY:Scream Inc - Ankara
DESCRIPTION:Dünyanın en iyi Metallica TRİBUTE gruplarından biri olarak bilinir. Grup faaliyetinin başlangıcından bu yana Almanya\, Avusturya\, Çek Cumhuriyeti\, Estonya\, Yunanistan\, Hollanda\, Portekiz\, ispanya\, Polonya ve Ukrayna gibi ülkelerde gişe performanslarıyla 1.000’den fazla konser verdi. \nTarafından seslendirilen efsanevi grup Metallica’nın şarkılarını dinleyebileceğiniz eşsiz bir etkinliğe davet ediyoruz. \nBir senfoni orkestrası eşliğinde olacaktır. Grup 1999 S & M albümünde ölümsüzleştirilen şarkıların senfonik versiyonlarını sunacak.
URL:https://kapakmagazin.com/etkinlik-takvimi/scream-inc-3/
LOCATION:MEB Şura Salonu
CATEGORIES:Ankara
ATTACH;FMTTYPE=image/jpeg:https://kapakmagazin.com/wp-content/uploads/screaminc.jpg
END:VEVENT
BEGIN:VEVENT
DTSTART;VALUE=DATE:20260207
DTEND;VALUE=DATE:20260208
DTSTAMP:20260423T035400
CREATED:20251231T060115Z
LAST-MODIFIED:20251231T060115Z
UID:21493-1770422400-1770508799@kapakmagazin.com
SUMMARY:Gore Dimension\, Hazardous\, Angona\, Wrackpact
DESCRIPTION:7 şubat cumartesi günü Bursa @kabarcekirge sahnesinde istanbuldan brutal death metal grubu @goredimension \, yeni albümlerini yayınlayan @hazardousthrash \, Antalya’dan @angonaband ve yine istanbul’dan gecenin açılış grubu olacak @wrackpact bizlerle!
URL:https://kapakmagazin.com/etkinlik-takvimi/gore-dimension-hazardous-angona-wrackpact/
LOCATION:KaBar Çekirge\, Muradiye\, Çekirge Cd. No:59\, 16050 Osmangazi/Bursa\, Türkiye\, Bursa\, Türkiye
CATEGORIES:Bursa
END:VEVENT
BEGIN:VEVENT
DTSTART;VALUE=DATE:20260207
DTEND;VALUE=DATE:20260208
DTSTAMP:20260423T035400
CREATED:20260123T210951Z
LAST-MODIFIED:20260123T210951Z
UID:21728-1770422400-1770508799@kapakmagazin.com
SUMMARY:Gore Dimension\, Hazardous\, Angona\, Wrackpact
DESCRIPTION:Alternative Underground Organisations sunar: \n7 şubat cumartesi günü Bursa @kabarcekirge sahnesinde istanbuldan brutal death metal grubu @goredimension \, yeni albümlerini yayınlayan @hazardousthrash \, Antalya’dan @angonaband ve yine istanbul’dan gecenin açılış grubu olacak @wrackpact bizlerle!
URL:https://kapakmagazin.com/etkinlik-takvimi/gore-dimension-hazardous-angona-wrackpact-2/
LOCATION:kabar
CATEGORIES:Bursa
END:VEVENT
BEGIN:VEVENT
DTSTART;VALUE=DATE:20260207
DTEND;VALUE=DATE:20260208
DTSTAMP:20260423T035400
CREATED:20260201T153636Z
LAST-MODIFIED:20260201T153636Z
UID:21811-1770422400-1770508799@kapakmagazin.com
SUMMARY:Kargo
DESCRIPTION:%100 Akustik Sunar: Kargo\, 7 Şubat Cumartesi akşamı IF Beşiktaş sahnesi’nde! 🎸
URL:https://kapakmagazin.com/etkinlik-takvimi/kargo/
LOCATION:IF Performance Hall Beşiktaş\, Cihannüma\, Hasfırın Cd. No:26\, 34353 Beşiktaş/İstanbul\, Türkiye\, istanbul\, Türkiye
CATEGORIES:İstanbul
END:VEVENT
BEGIN:VEVENT
DTSTART;VALUE=DATE:20260207
DTEND;VALUE=DATE:20260208
DTSTAMP:20260423T035400
CREATED:20260201T154025Z
LAST-MODIFIED:20260201T154025Z
UID:21815-1770422400-1770508799@kapakmagazin.com
SUMMARY:Boyalı Kuş - Erkin Koray Gecesi
DESCRIPTION:Ankara’nın müstesna gruplarından Boyalı Kuş\, sizleri 7 Şubat’ta Fakülte Eskişehir’e davet ediyor. Yürüdükleri yollarda rastladıkları ayak izlerine minnetle\, kendi düşledikleri gibi\, kendi üsluplarınca\, Boyalı Kuşça bir “Erkin Koray Gecesi” düzenliyor. \nSamet Karadeniz: Vokal\, Elektrik Gitar\, Çağlama\nİsmet Karadeniz: Bas Gitar\nEkin Özek: Klavye\nKerem Sivel: Davul\, Geri Vokal
URL:https://kapakmagazin.com/etkinlik-takvimi/boyali-kus-erkin-koray-gecesi/
LOCATION:Fakülte Eskişehir
CATEGORIES:Eskişehir
END:VEVENT
BEGIN:VEVENT
DTSTART;VALUE=DATE:20260207
DTEND;VALUE=DATE:20260208
DTSTAMP:20260423T035400
CREATED:20260201T172644Z
LAST-MODIFIED:20260201T172644Z
UID:21830-1770422400-1770508799@kapakmagazin.com
SUMMARY:Market Saturée / Rektal Tuşe / Cerahat 40K / T.O.N.
DESCRIPTION:2024 yılında İstanbulda kurulan T.O.N\, aşırı hızlı tempolar\, çiğ gitar tonları ve agresif vokallerle karakterize edilen müzikleriyle\, dinleyiciyi yüksek enerjili bir ekstrem müzik deneyimine davet ediyor. Yerel sahnede genç kuşağın grindcore tutkusunu somutlaştıran T.O.N\, farklı şehirlerde konserler vererek\, grindcore ve yeraltı metal topluluğu içinde kendine sağlam bir yer edindi. \nCerahat 40K\, 2023te Yavuz Sürmeli ve Kilingir tarafından kurulan İstanbul merkezli sludge metal ikilisi. Grup\, düşük tempolu doom öğeleri ve deneysel sahne enerjisiyle kısa sürede yerel yeraltı müzik sahnesinin bir parçası haline geldi. \nRektal Tuşe\, Ankaralı grindcore grubu. 2009 yılında kurulan ve iki demo\, iki split\, biri stüdyo biri konser kaydı olmak üzere iki canlı kaydedilmiş albüm ve iki EP çıkaran grup\, son dönemdeki iki singleı ile politik ve mizahi konseptini daha karanlık\, kaotik\, içe dönük ve toplumsal konulara çekiyor. Bu sene yeni ve ilk tam zamanlı albümünü çıkaracak olan grup\, ekstrem metal ve punk’ın kesişimi olan grindcore’un İskandinav tınılarına yakın bir segmentinde gürültüler üretmeye devam ediyor. \nMarket Saturée 2024 yılında Baselde kuruldu. Grubun birlikte bestelediği ve biçimlendirdiği müziği\, karmaşık yapıları beton hissi veren sert müziğin dışavurumcu formlarıyla birleştiriyor. Hayatta kalma dürtüsünü çalış stiline yansıtan Market Saturée\, grindcore\, mathcore\, prog\, metalcore\, hardcore punk\, noise ve doğaçlama müziği harmanlayarak kendi dili ve ifade biçimi yoluyla içinde yaşadığı zamanların karmaşık hislerini aktarıyor. \n20:00 T.O.N\n21:00 Cerahat 40K\n22:00 Rektal Tuşe\n23:00 Market Saturée
URL:https://kapakmagazin.com/etkinlik-takvimi/market-saturee-rektal-tuse-cerahat-40k-t-o-n-2/
LOCATION:Haymatlos Mekan
CATEGORIES:Ankara
END:VEVENT
BEGIN:VEVENT
DTSTART;VALUE=DATE:20260207
DTEND;VALUE=DATE:20260208
DTSTAMP:20260423T035400
CREATED:20260201T173001Z
LAST-MODIFIED:20260201T173001Z
UID:21832-1770422400-1770508799@kapakmagazin.com
SUMMARY:Repentless\, Unsacramental\, PES
DESCRIPTION:Repentless\, Unsacramental\, PES
URL:https://kapakmagazin.com/etkinlik-takvimi/repentless-unsacramental-pes/
LOCATION:Dinozor Bar\, Alsancak mahallesi 1469 sokak no:86 35220 Konak/İzmir\, İzmir\, Türkiye
CATEGORIES:İzmir
END:VEVENT
BEGIN:VEVENT
DTSTART;VALUE=DATE:20260207
DTEND;VALUE=DATE:20260208
DTSTAMP:20260423T035400
CREATED:20260202T092550Z
LAST-MODIFIED:20260202T092550Z
UID:21867-1770422400-1770508799@kapakmagazin.com
SUMMARY:Sovak\, The Leavers
DESCRIPTION:Progresif rock’un yenilikçi sesi Sovak ve melodik dokusuyla dikkat çeken The Leavers\, 7 Şubat Cumartesi günü CSO Ada Mavi Salon’da aynı sahnede! 🎸👆🏼 \nModern rock’un sınırlarını zorlayan besteleri\, enerjik performansları ve sahnede kurdukları büyüleyici atmosferle bu gece\, müzikseverler için kaçırılmayacak bir deneyim sunuyor.
URL:https://kapakmagazin.com/etkinlik-takvimi/sovak-the-leavers/
LOCATION:CSO Ada Ankara Mavi Salon
CATEGORIES:Ankara
END:VEVENT
BEGIN:VEVENT
DTSTART;VALUE=DATE:20260207
DTEND;VALUE=DATE:20260208
DTSTAMP:20260423T035400
CREATED:20260202T110506Z
LAST-MODIFIED:20260202T110506Z
UID:21873-1770422400-1770508799@kapakmagazin.com
SUMMARY:Gate of Hate\, Kriegdown
DESCRIPTION:Gate of Hate\, Kriegdown 7 Şubat Cumartesi  Dorock HMC sahnesinde
URL:https://kapakmagazin.com/etkinlik-takvimi/gate-of-hate-kriegdown/
LOCATION:Dorock Heavy Metal Club\, Hüseyinağa\, Kameriye Sk. No 11/A\, 34435 Beyoğlu/İstanbul\, Türkiye\, İstanbul\, Türkiye
CATEGORIES:İstanbul
END:VEVENT
BEGIN:VEVENT
DTSTART;VALUE=DATE:20260207
DTEND;VALUE=DATE:20260208
DTSTAMP:20260423T035400
CREATED:20260202T144533Z
LAST-MODIFIED:20260202T144533Z
UID:21894-1770422400-1770508799@kapakmagazin.com
SUMMARY:Mehmet Kaya - Gate Of Hate - Kreigdawn
DESCRIPTION:
URL:https://kapakmagazin.com/etkinlik-takvimi/mehmet-kaya-gate-of-hate-kreigdawn/
LOCATION:Dorock Heavy Metal Club\, Hüseyinağa\, Kameriye Sk. No 11/A\, 34435 Beyoğlu/İstanbul\, Türkiye\, İstanbul\, Türkiye
END:VEVENT
END:VCALENDAR