BEGIN:VCALENDAR
VERSION:2.0
PRODID:-//Kapak Magazin - ECPv6.15.17.1//NONSGML v1.0//EN
CALSCALE:GREGORIAN
METHOD:PUBLISH
X-ORIGINAL-URL:https://kapakmagazin.com
X-WR-CALDESC:Kapak Magazin için etkinlikler
REFRESH-INTERVAL;VALUE=DURATION:PT1H
X-Robots-Tag:noindex
X-PUBLISHED-TTL:PT1H
BEGIN:VTIMEZONE
TZID:Europe/Istanbul
BEGIN:STANDARD
TZOFFSETFROM:+0300
TZOFFSETTO:+0300
TZNAME:+03
DTSTART:20250101T000000
END:STANDARD
END:VTIMEZONE
BEGIN:VEVENT
DTSTART;VALUE=DATE:20260211
DTEND;VALUE=DATE:20260212
DTSTAMP:20260423T035358
CREATED:20260202T144534Z
LAST-MODIFIED:20260202T144534Z
UID:21897-1770768000-1770854399@kapakmagazin.com
SUMMARY:Kramp
DESCRIPTION:
URL:https://kapakmagazin.com/etkinlik-takvimi/kramp/
LOCATION:Dorock Heavy Metal Club\, Hüseyinağa\, Kameriye Sk. No 11/A\, 34435 Beyoğlu/İstanbul\, Türkiye\, İstanbul\, Türkiye
END:VEVENT
BEGIN:VEVENT
DTSTART;TZID=Europe/Istanbul:20260211T080000
DTEND;TZID=Europe/Istanbul:20260211T170000
DTSTAMP:20260423T035358
CREATED:20251014T181538Z
LAST-MODIFIED:20260211T092059Z
UID:20409-1770796800-1770829200@kapakmagazin.com
SUMMARY:Behemoth
DESCRIPTION:Polonyalı black metal efsanesi Behemoth\, “Chant of the Eastern Lands” turnesi kapsamında 11 Şubat 2026’da Zorlu PSM sahnesinde! \nSahne performanslarını “Görsel ve işitsel olarak etkileyici\, büyük ve kontrol edilemez bir kaos” olarak tanımlayan grup\, black/death metal’in teatral gücünü zirveye taşıyor. \nYaklaşık 35 yıllık kariyerleri boyunca karanlık atmosferi\, büyüleyici ritüelleri ve sahne estetiğiyle metal sahnesinin sınırlarını defalarca zorlayan Behemoth\, İstanbul’da unutulmaz bir gece yaşatmaya hazırlanıyor
URL:https://kapakmagazin.com/etkinlik-takvimi/behemoth/
LOCATION:Zorlu PSM\, Zorlu Center\, 34340\, BEŞİKTAŞ / İstanbul\, İstanbul\, Türkiye
CATEGORIES:İstanbul
ATTACH;FMTTYPE=image/jpeg:https://kapakmagazin.com/wp-content/uploads/behemoth-konseri.jpg
END:VEVENT
END:VCALENDAR