BEGIN:VCALENDAR
VERSION:2.0
PRODID:-//Kapak Magazin - ECPv6.15.17.1//NONSGML v1.0//EN
CALSCALE:GREGORIAN
METHOD:PUBLISH
X-ORIGINAL-URL:https://kapakmagazin.com
X-WR-CALDESC:Kapak Magazin için etkinlikler
REFRESH-INTERVAL;VALUE=DURATION:PT1H
X-Robots-Tag:noindex
X-PUBLISHED-TTL:PT1H
BEGIN:VTIMEZONE
TZID:Europe/Istanbul
BEGIN:STANDARD
TZOFFSETFROM:+0300
TZOFFSETTO:+0300
TZNAME:+03
DTSTART:20250101T000000
END:STANDARD
END:VTIMEZONE
BEGIN:VEVENT
DTSTART;VALUE=DATE:20260701
DTEND;VALUE=DATE:20260702
DTSTAMP:20260423T035400
CREATED:20251031T200021Z
LAST-MODIFIED:20251031T200021Z
UID:20565-1782864000-1782950399@kapakmagazin.com
SUMMARY:Babymetal
DESCRIPTION:%100 Metal Sunar: Babymetal Konseri \nMETALİN FENOMEN İSMİ 1 TEMMUZ’DA LIFEPARK İSTANBUL’DA! \nAvantanjlı dönem biletleri 5 Kasım saat 10:00 da satışta. \nJapon metal fenomeni BABYMETAL\, 1 Temmuz 2026 Çarşamba akşamı Neo Events organizasyzonuyla Lifepark İstanbul’da sahne alıyor. Metalin gücünü yüksek enerjili koreografiler ve kusursuz bir sahne prodüksiyonuyla birleştiren grup\, İstanbul’da epik bir gece vadediyor. \nJaponya’da doğan BABY METAL \, J-pop’un enerjisini metal rifflerle birleştirerek tüm klişeleri paramparça etti. Vokalde SU-METAL\, “scream & dance” yorumuyla MOAMETAL ve MOMOMETAL’den oluşuyor. Kendi adlarını taşıyan Babymetal (2014) albümüyle başlayan yolculuk\, “Gimme Chocolate!!” ile küresel bir patlamaya dönüştü. Aynı yıl Budokan Arena’yı tıklım tıklım doldurarak “en genç yaşta Budokan dolduran grup” rekorunu kırdılar. 2016’da Wembley Arena’yı sold-out ederek tarihe geçen ilk Japon metal grubu oldular. \nWembley Arena’da başrol performansıyla Birleşik Krallık’ta tarih yazan\, Glastonbury’ye damga vuran ve Los Angeles The Forum’daki ilk ABD arena konseriyle küresel çıkışını perçinleyen grup; METAL GALAXY albümüyle Billboard 200’de 3’üncülüğe\, Top Rock Albums’ta ise Asyalı bir sanatçı için ilk kez 1 numaraya yükselerek rekor kırdı. 2021’de Budokan’da gerçekleştirdikleri 10 konserlik seri ve 2023’te yayımlanan konsept albüm THE OTHER ONE\, topluluğun sahne vizyonunu daha da büyüttü; Avrupa’da Sabaton turnesi desteği ve Asya– Avustralya ayaklarıyla dünya çapında kitlelerini genişlettiler. \nBabymetal’in başarısı sadece müzikte değil; kültürel bir köprü kurmakta yatıyor. Alex Terrible (Slaughter to Prevail) ile yaptıkları deathcore işbirliği\, Electric Callboy ile elektronik-dans füzyonu “RATATATA”\, ve DragonForce gitaristleriyle sahnede buluşturdukları power metal enerjisi… \nHer biri Babymetal’in “sınır tanımayan” kimliğini güçlendirdi. \nLifepark’ın doğal atmosferinde\, dev prodüksiyon ve yüksek oktanlı bir setlist ile BABYMETAL’i canlı izlemek için takvimleri işaretleyin. Kapılar 17.00’de açılacak. Saat 19.00 da ismi daha sonra aciklanacak ön grup sahnede olacak; ardından saat 21.00’de BABYMETAL konseri başlayacak. Etkinlik icin Genel alan\, Sahne önü ve Vip bilet seçenekleri sunulacak. \nAvantanjlı dönem biletleri 5 Kasım 2025’te biletinial.com da satışa sunulacak. Bu sadece bir konser değil bir fenomenin doğduğu yerden\, dünyanın dört bir yanına yayılan bir rüyanın devamı. Ve o rüya\, 1 Temmuz gecesi Life Park’ta yeniden başlayacak. \nBiletler tukenmeden bu epik konser icin yerinizi alin.
URL:https://kapakmagazin.com/etkinlik-takvimi/babymetal/
LOCATION:İstanbul Lifepark\, Bahçeköy Yeni\, Bahçeköy Cd. No:114\, 34473 Sarıyer\, İstanbul\, Turkey
CATEGORIES:İstanbul
ATTACH;FMTTYPE=image/webp:https://kapakmagazin.com/wp-content/uploads/BABYMETAL-istanbulda.webp
END:VEVENT
END:VCALENDAR