BEGIN:VCALENDAR
VERSION:2.0
PRODID:-//Kapak Magazin - ECPv6.15.17.1//NONSGML v1.0//EN
CALSCALE:GREGORIAN
METHOD:PUBLISH
X-ORIGINAL-URL:https://kapakmagazin.com
X-WR-CALDESC:Kapak Magazin için etkinlikler
REFRESH-INTERVAL;VALUE=DURATION:PT1H
X-Robots-Tag:noindex
X-PUBLISHED-TTL:PT1H
BEGIN:VTIMEZONE
TZID:Europe/Istanbul
BEGIN:STANDARD
TZOFFSETFROM:+0300
TZOFFSETTO:+0300
TZNAME:+03
DTSTART:20250101T000000
END:STANDARD
END:VTIMEZONE
BEGIN:VEVENT
DTSTART;VALUE=DATE:20261129
DTEND;VALUE=DATE:20261130
DTSTAMP:20260423T132213
CREATED:20260410T101802Z
LAST-MODIFIED:20260410T101802Z
UID:23337-1795910400-1795996799@kapakmagazin.com
SUMMARY:Draconian - Ankara
DESCRIPTION:İsveçli gotik doom metal grubu Draconian\, Stagepass organizasyonuyla 28 Kasım’da IF Performance Hall Beşiktaş’ta\, 29 Kasım’da ise Jolly Joker Ankara’da sevenleriyle buluşmaya hazırlanıyor. 30 yılı aşan kariyeri boyunca karanlıkla romantizmi\, sertlikle kırılganlığı bir araya getiren grup\, sinematik anlatım gücüyle dinleyicisini içine çeken bir sahne deneyimi sunuyor. Biletler\, 14 Nisan Salı günü Biletinial’da satışa çıkacak. \nGotik doom metalin İsveçli temsilcisi Draconian\, Stagepass organizasyonuyla Kasım ayında İstanbul ve Ankara’ya geliyor. 28 Kasım’da IF Performance Hall Beşiktaş’ta\, 29 Kasım’da ise Jolly Joker Ankara’da gerçekleşecek konserlerin açılışını\, Bulgaristan kökenli senfonik/progresif metal grubu The A.X.E. Project gerçekleştirecek. \nGotik doom sahnesinin en karakteristik gruplarından \n1994’te İsveç’te kurulan Draconian\, ağır tempolu riff’ler\, yoğun atmosfer ve güçlü melodik yapıların birleşimiyle gotik doom sahnesinin en karakteristik gruplarından biri haline geldi. Kariyerleri boyunca karanlıkla romantizmi\, sertlikle kırılganlığı bir araya getiren grup\, bu güçlü karşıtlıkları kendine has bir müzikal dilde buluşturarak uluslararası ölçekte sadık bir dinleyici kitlesi yarattı. \nGrubun müziği; sert ve temiz vokallerin iç içe geçtiği\, sinematik anlatım gücüyle öne çıkan bir yapı kuruyor. Bu yaklaşım\, Draconian’ı yalnızca türünün değil\, atmosferik metal dünyasının da en ayırt edici projelerinden biri haline getiriyor. \nYeni albüm Mayıs’ta: In Somnolent Ruin \nÖnümüzdeki ay yayımlanacak yeni albümleri In Somnolent Ruin ile daha içe dönük ve rüya benzeri bir anlatıya yönelen grup\, bu yeni döneminde de melankoli\, yabancılaşma ve varoluş arayışı gibi temaları derinleştirmeye devam ediyor. \nDraconian\, İstanbul ve Ankara konserlerinde hem yeni albümünden parçaları hem de kariyerinin öne çıkan şarkılarını sahneye taşıyacak.
URL:https://kapakmagazin.com/etkinlik-takvimi/draconian-ankara/
LOCATION:Jolly Joker Ankara\, Kavaklıdere\, Kızılırmak Cd. No:14\, 06420 Çankaya\, Ankara\, Türkiye
CATEGORIES:Ankara
ATTACH;FMTTYPE=image/jpeg:https://kapakmagazin.com/wp-content/uploads/draconian-ankara.jpg
END:VEVENT
END:VCALENDAR